BEGIN:VCALENDAR
VERSION:2.0
PRODID:-//Project for Alternative Learning - ECPv6.15.20//NONSGML v1.0//EN
CALSCALE:GREGORIAN
METHOD:PUBLISH
X-ORIGINAL-URL:https://pal.helenaschools.org
X-WR-CALDESC:Events for Project for Alternative Learning
REFRESH-INTERVAL;VALUE=DURATION:PT1H
X-Robots-Tag:noindex
X-PUBLISHED-TTL:PT1H
BEGIN:VTIMEZONE
TZID:America/Denver
BEGIN:DAYLIGHT
TZOFFSETFROM:-0700
TZOFFSETTO:-0600
TZNAME:MDT
DTSTART:20200308T090000
END:DAYLIGHT
BEGIN:STANDARD
TZOFFSETFROM:-0600
TZOFFSETTO:-0700
TZNAME:MST
DTSTART:20201101T080000
END:STANDARD
BEGIN:DAYLIGHT
TZOFFSETFROM:-0700
TZOFFSETTO:-0600
TZNAME:MDT
DTSTART:20210314T090000
END:DAYLIGHT
BEGIN:STANDARD
TZOFFSETFROM:-0600
TZOFFSETTO:-0700
TZNAME:MST
DTSTART:20211107T080000
END:STANDARD
BEGIN:DAYLIGHT
TZOFFSETFROM:-0700
TZOFFSETTO:-0600
TZNAME:MDT
DTSTART:20220313T090000
END:DAYLIGHT
BEGIN:STANDARD
TZOFFSETFROM:-0600
TZOFFSETTO:-0700
TZNAME:MST
DTSTART:20221106T080000
END:STANDARD
END:VTIMEZONE
BEGIN:VEVENT
DTSTART;VALUE=DATE:20210527
DTEND;VALUE=DATE:20210530
DTSTAMP:20260422T160753
CREATED:20201215T113459Z
LAST-MODIFIED:20201219T121507Z
UID:22669-1622073600-1622332799@pal.helenaschools.org
SUMMARY:Track & Field State Meet
DESCRIPTION:
URL:https://pal.helenaschools.org/event/track-field-state-meet/
LOCATION:Missoula – TBD\, Missoula\, MT\, 59801\, United States
CATEGORIES:Activities,Capital High School Activities,Capital High Track & Field,Helena High Activities,Helena High Track & Field
END:VEVENT
BEGIN:VEVENT
DTSTART;VALUE=DATE:20210521
DTEND;VALUE=DATE:20210523
DTSTAMP:20260422T160753
CREATED:20201215T113459Z
LAST-MODIFIED:20201219T121507Z
UID:22668-1621555200-1621727999@pal.helenaschools.org
SUMMARY:Track & Field Divisionals
DESCRIPTION:
URL:https://pal.helenaschools.org/event/track-field-divisionals/
LOCATION:Butte – TBD\, Butte\, MT\, 59701\, United States
CATEGORIES:Activities,Capital High School Activities,Capital High Track & Field,Helena High Activities,Helena High Track & Field
END:VEVENT
BEGIN:VEVENT
DTSTART;TZID=America/Denver:20210513T153000
DTEND;TZID=America/Denver:20210513T190000
DTSTAMP:20260422T160753
CREATED:20201215T113457Z
LAST-MODIFIED:20201219T121507Z
UID:22661-1620919800-1620932400@pal.helenaschools.org
SUMMARY:Crosstown Track & Field
DESCRIPTION:
URL:https://pal.helenaschools.org/event/crosstown-track-field/
LOCATION:Vigilante Stadium\, 1025 N. Rodney\, Helena\, MT\, 59601\, United States
CATEGORIES:Activities,Capital High School Activities,Capital High Track & Field,Helena High Activities,Helena High Track & Field
END:VEVENT
BEGIN:VEVENT
DTSTART;TZID=America/Denver:20210508T110000
DTEND;TZID=America/Denver:20210508T140000
DTSTAMP:20260422T160753
CREATED:20201215T113456Z
LAST-MODIFIED:20201219T121506Z
UID:22653-1620471600-1620482400@pal.helenaschools.org
SUMMARY:CHS Track & Field v. Big Sky
DESCRIPTION:
URL:https://pal.helenaschools.org/event/chs-track-field-v-big-sky/
LOCATION:Vigilante Stadium\, 1025 N. Rodney\, Helena\, MT\, 59601\, United States
CATEGORIES:Activities,Capital High School Activities,Capital High Track & Field
END:VEVENT
BEGIN:VEVENT
DTSTART;TZID=America/Denver:20210506T153000
DTEND;TZID=America/Denver:20210506T190000
DTSTAMP:20260422T160753
CREATED:20201215T113456Z
LAST-MODIFIED:20201219T121506Z
UID:22651-1620315000-1620327600@pal.helenaschools.org
SUMMARY:Track & Field at Great Falls Frosh Invitational
DESCRIPTION:
URL:https://pal.helenaschools.org/event/track-field-at-great-falls-frosh-invitational/
LOCATION:Great Falls High School\, 1900 2nd Ave. S.\, Great Falls\, MT\, 59405\, United States
CATEGORIES:Activities,Capital High School Activities,Capital High Track & Field,Helena High Activities,Helena High Track & Field
END:VEVENT
BEGIN:VEVENT
DTSTART;TZID=America/Denver:20210501T100000
DTEND;TZID=America/Denver:20210501T150000
DTSTAMP:20260422T160753
CREATED:20201215T113455Z
LAST-MODIFIED:20201219T121505Z
UID:22644-1619863200-1619881200@pal.helenaschools.org
SUMMARY:Track & Field at Missoula Frosh Invitational
DESCRIPTION:
URL:https://pal.helenaschools.org/event/track-field-at-missoula-frosh-invitational/
LOCATION:Missoula – TBD\, Missoula\, MT\, 59801\, United States
CATEGORIES:Activities,Capital High School Activities,Capital High Track & Field,Helena High Activities,Helena High Track & Field
END:VEVENT
BEGIN:VEVENT
DTSTART;TZID=America/Denver:20210501T093000
DTEND;TZID=America/Denver:20210501T170000
DTSTAMP:20260422T160753
CREATED:20201215T113455Z
LAST-MODIFIED:20201219T121505Z
UID:22643-1619861400-1619888400@pal.helenaschools.org
SUMMARY:Track & Field at Skor/Dekam Meet
DESCRIPTION:
URL:https://pal.helenaschools.org/event/track-field-at-skor-dekam-meet/
LOCATION:Vigilante Stadium\, 1025 N. Rodney\, Helena\, MT\, 59601\, United States
CATEGORIES:Activities,Capital High School Activities,Capital High Track & Field,Helena High Activities,Helena High Track & Field
END:VEVENT
BEGIN:VEVENT
DTSTART;TZID=America/Denver:20210429T153000
DTEND;TZID=America/Denver:20210429T190000
DTSTAMP:20260422T160753
CREATED:20201215T113455Z
LAST-MODIFIED:20201219T121505Z
UID:22641-1619710200-1619722800@pal.helenaschools.org
SUMMARY:Track & Field at Small Schools Meet
DESCRIPTION:
URL:https://pal.helenaschools.org/event/track-field-at-small-schools-meet/
LOCATION:Vigilante Stadium\, 1025 N. Rodney\, Helena\, MT\, 59601\, United States
CATEGORIES:Activities,Capital High School Activities,Capital High Track & Field,Helena High Activities,Helena High Track & Field
END:VEVENT
BEGIN:VEVENT
DTSTART;TZID=America/Denver:20210427T153000
DTEND;TZID=America/Denver:20210427T190000
DTSTAMP:20260422T160753
CREATED:20201215T113455Z
LAST-MODIFIED:20201219T121505Z
UID:22640-1619537400-1619550000@pal.helenaschools.org
SUMMARY:Track & Field at Top Ten Meet
DESCRIPTION:
URL:https://pal.helenaschools.org/event/track-field-at-top-ten-meet/
LOCATION:Missoula – TBD\, Missoula\, MT\, 59801\, United States
CATEGORIES:Activities,Capital High School Activities,Capital High Track & Field,Helena High Activities,Helena High Track & Field
END:VEVENT
BEGIN:VEVENT
DTSTART;TZID=America/Denver:20210424T110000
DTEND;TZID=America/Denver:20210424T170000
DTSTAMP:20260422T160753
CREATED:20201215T113454Z
LAST-MODIFIED:20201219T121505Z
UID:22637-1619262000-1619283600@pal.helenaschools.org
SUMMARY:Track & Field at Great Falls Invitational
DESCRIPTION:
URL:https://pal.helenaschools.org/event/track-field-at-great-falls-invitational/
LOCATION:Great Falls High School\, 1900 2nd Ave. S.\, Great Falls\, MT\, 59405\, United States
CATEGORIES:Activities,Capital High School Activities,Capital High Track & Field,Helena High Activities,Helena High Track & Field
END:VEVENT
BEGIN:VEVENT
DTSTART;TZID=America/Denver:20210423T120000
DTEND;TZID=America/Denver:20210423T170000
DTSTAMP:20260422T160753
CREATED:20201215T113454Z
LAST-MODIFIED:20201219T121505Z
UID:22636-1619179200-1619197200@pal.helenaschools.org
SUMMARY:Track & Field at Dalberg Meet
DESCRIPTION:
URL:https://pal.helenaschools.org/event/track-field-at-dalberg-meet/
LOCATION:Butte – TBD\, Butte\, MT\, 59701\, United States
CATEGORIES:Activities,Capital High School Activities,Capital High Track & Field,Helena High Activities,Helena High Track & Field
END:VEVENT
BEGIN:VEVENT
DTSTART;TZID=America/Denver:20210422T153000
DTEND;TZID=America/Denver:20210422T190000
DTSTAMP:20260422T160753
CREATED:20201215T113454Z
LAST-MODIFIED:20201219T121504Z
UID:22634-1619105400-1619118000@pal.helenaschools.org
SUMMARY:Track & Field at Helena Frosh Invitational
DESCRIPTION:
URL:https://pal.helenaschools.org/event/track-field-at-helena-frosh-invitational/
LOCATION:Vigilante Stadium\, 1025 N. Rodney\, Helena\, MT\, 59601\, United States
CATEGORIES:Activities,Capital High School Activities,Capital High Track & Field,Helena High Activities,Helena High Track & Field
END:VEVENT
BEGIN:VEVENT
DTSTART;TZID=America/Denver:20210420T153000
DTEND;TZID=America/Denver:20210420T190000
DTSTAMP:20260422T160753
CREATED:20201215T113454Z
LAST-MODIFIED:20201219T121504Z
UID:22632-1618932600-1618945200@pal.helenaschools.org
SUMMARY:Track & Field JV Track & Field Coaches Meet
DESCRIPTION:
URL:https://pal.helenaschools.org/event/track-field-jv-track-field-coaches-meet/
LOCATION:Vigilante Stadium\, 1025 N. Rodney\, Helena\, MT\, 59601\, United States
CATEGORIES:Activities,Capital High School Activities,Capital High Track & Field,Helena High Activities,Helena High Track & Field
END:VEVENT
BEGIN:VEVENT
DTSTART;TZID=America/Denver:20210417T093000
DTEND;TZID=America/Denver:20210417T170000
DTSTAMP:20260422T160753
CREATED:20201215T113453Z
LAST-MODIFIED:20201219T121504Z
UID:22629-1618651800-1618678800@pal.helenaschools.org
SUMMARY:Track & Field at MCPS Invitational
DESCRIPTION:
URL:https://pal.helenaschools.org/event/track-field-at-mcps-invitational/
LOCATION:Missoula – TBD\, Missoula\, MT\, 59801\, United States
CATEGORIES:Activities,Capital High School Activities,Capital High Track & Field,Helena High Activities,Helena High Track & Field
END:VEVENT
BEGIN:VEVENT
DTSTART;TZID=America/Denver:20210410T120000
DTEND;TZID=America/Denver:20210410T170000
DTSTAMP:20260422T160753
CREATED:20201215T113452Z
LAST-MODIFIED:20201219T121503Z
UID:22619-1618056000-1618074000@pal.helenaschools.org
SUMMARY:CHS Track & Field v. Senior
DESCRIPTION:
URL:https://pal.helenaschools.org/event/chs-track-field-v-senior/
LOCATION:Senior High School\, 425 Grand Ave.\, Billings\, MT\, 59101\, United States
CATEGORIES:Activities,Capital High School Activities,Capital High Track & Field
END:VEVENT
BEGIN:VEVENT
DTSTART;TZID=America/Denver:20210406T103000
DTEND;TZID=America/Denver:20210406T150000
DTSTAMP:20260422T160753
CREATED:20201215T113451Z
LAST-MODIFIED:20201219T121502Z
UID:22611-1617705000-1617721200@pal.helenaschools.org
SUMMARY:CHS Track & Field v. Great Falls
DESCRIPTION:
URL:https://pal.helenaschools.org/event/chs-track-field-v-great-falls/
LOCATION:Great Falls High School\, 1900 2nd Ave. S.\, Great Falls\, MT\, 59405\, United States
CATEGORIES:Activities,Capital High School Activities,Capital High Track & Field
END:VEVENT
END:VCALENDAR