BEGIN:VCALENDAR
VERSION:2.0
PRODID:-//Project for Alternative Learning - ECPv6.15.20//NONSGML v1.0//EN
CALSCALE:GREGORIAN
METHOD:PUBLISH
X-ORIGINAL-URL:https://pal.helenaschools.org
X-WR-CALDESC:Events for Project for Alternative Learning
REFRESH-INTERVAL;VALUE=DURATION:PT1H
X-Robots-Tag:noindex
X-PUBLISHED-TTL:PT1H
BEGIN:VTIMEZONE
TZID:America/Denver
BEGIN:DAYLIGHT
TZOFFSETFROM:-0700
TZOFFSETTO:-0600
TZNAME:MDT
DTSTART:20200308T090000
END:DAYLIGHT
BEGIN:STANDARD
TZOFFSETFROM:-0600
TZOFFSETTO:-0700
TZNAME:MST
DTSTART:20201101T080000
END:STANDARD
BEGIN:DAYLIGHT
TZOFFSETFROM:-0700
TZOFFSETTO:-0600
TZNAME:MDT
DTSTART:20210314T090000
END:DAYLIGHT
BEGIN:STANDARD
TZOFFSETFROM:-0600
TZOFFSETTO:-0700
TZNAME:MST
DTSTART:20211107T080000
END:STANDARD
BEGIN:DAYLIGHT
TZOFFSETFROM:-0700
TZOFFSETTO:-0600
TZNAME:MDT
DTSTART:20220313T090000
END:DAYLIGHT
BEGIN:STANDARD
TZOFFSETFROM:-0600
TZOFFSETTO:-0700
TZNAME:MST
DTSTART:20221106T080000
END:STANDARD
END:VTIMEZONE
BEGIN:VEVENT
DTSTART;TZID=America/Denver:20210107T193000
DTEND;TZID=America/Denver:20210107T213000
DTSTAMP:20260425T045913
CREATED:20201215T113439Z
LAST-MODIFIED:20201219T121452Z
UID:22506-1610047800-1610055000@pal.helenaschools.org
SUMMARY:HHS Boys Basketball v. Hellgate
DESCRIPTION:JV @ 5:45pm\nSoph @ 4pm\nFrosh @ 4pm
URL:https://pal.helenaschools.org/event/hhs-boys-basketball-v-hellgate/
LOCATION:Hellgate High School\, 925 Gerald Ave.\, Missoula\, MT\, 59801\, United States
CATEGORIES:Activities,Helena High Activities,Helena High Boys Basketball
END:VEVENT
BEGIN:VEVENT
DTSTART;TZID=America/Denver:20210108T160000
DTEND;TZID=America/Denver:20210108T180000
DTSTAMP:20260425T045913
CREATED:20201215T113439Z
LAST-MODIFIED:20201219T121452Z
UID:22507-1610121600-1610128800@pal.helenaschools.org
SUMMARY:HHS Wrestling v. Hellgate
DESCRIPTION:JV @ 4pm
URL:https://pal.helenaschools.org/event/hhs-wrestling-v-hellgate/
LOCATION:Helena High School\, 1300 Billings Ave.\, Helena\, 59601
CATEGORIES:Activities,Helena High Activities,Helena High Wrestling
END:VEVENT
BEGIN:VEVENT
DTSTART;TZID=America/Denver:20210108T160000
DTEND;TZID=America/Denver:20210108T180000
DTSTAMP:20260425T045913
CREATED:20201215T113439Z
LAST-MODIFIED:20201219T121452Z
UID:22508-1610121600-1610128800@pal.helenaschools.org
SUMMARY:CHS Wrestling v. Butte
DESCRIPTION:JV @ 4pm
URL:https://pal.helenaschools.org/event/chs-wrestling-v-butte/
LOCATION:Capital High School\, 100 Valley Dr.\, Helena\, MT\, 59601\, United States
CATEGORIES:Activities,Capital High School Activities,Capital High Wrestling
END:VEVENT
BEGIN:VEVENT
DTSTART;TZID=America/Denver:20210108T190000
DTEND;TZID=America/Denver:20210108T210000
DTSTAMP:20260425T045913
CREATED:20201215T113439Z
LAST-MODIFIED:20201219T121452Z
UID:22509-1610132400-1610139600@pal.helenaschools.org
SUMMARY:HHS Wrestling v. Butte
DESCRIPTION:JV @ 7pm
URL:https://pal.helenaschools.org/event/hhs-wrestling-v-butte/
LOCATION:Helena High School\, 1300 Billings Ave.\, Helena\, 59601
CATEGORIES:Activities,Helena High Activities,Helena High Wrestling
END:VEVENT
BEGIN:VEVENT
DTSTART;TZID=America/Denver:20210108T190000
DTEND;TZID=America/Denver:20210108T210000
DTSTAMP:20260425T045913
CREATED:20201215T113439Z
LAST-MODIFIED:20201219T121452Z
UID:22510-1610132400-1610139600@pal.helenaschools.org
SUMMARY:CHS Wrestling v. Hellgate
DESCRIPTION:JV @ 7pm
URL:https://pal.helenaschools.org/event/chs-wrestling-v-hellgate/
LOCATION:Capital High School\, 100 Valley Dr.\, Helena\, MT\, 59601\, United States
CATEGORIES:Activities,Capital High School Activities,Capital High Wrestling
END:VEVENT
BEGIN:VEVENT
DTSTART;TZID=America/Denver:20210109T143000
DTEND;TZID=America/Denver:20210109T163000
DTSTAMP:20260425T045913
CREATED:20201215T113439Z
LAST-MODIFIED:20201219T121452Z
UID:22511-1610202600-1610209800@pal.helenaschools.org
SUMMARY:HHS Girls Basketball v. Butte
DESCRIPTION:JV @ 1pm @ Civic Center\nSoph @ 11:30am @ Butte High\nFrosh @ 10am @ Butte High
URL:https://pal.helenaschools.org/event/hhs-girls-basketball-v-butte/
LOCATION:Civic Center\, 401 S Wyoming Ave.\, Butte\, MT\, 59701\, United States
CATEGORIES:Activities,Helena High Activities,Helena High Girls Basketball
END:VEVENT
BEGIN:VEVENT
DTSTART;TZID=America/Denver:20210109T143000
DTEND;TZID=America/Denver:20210109T163000
DTSTAMP:20260425T045913
CREATED:20201215T113439Z
LAST-MODIFIED:20201219T121452Z
UID:22512-1610202600-1610209800@pal.helenaschools.org
SUMMARY:HHS Boys Basketball v. Butte
DESCRIPTION:JV @ 1pm @ Civic Center\nSoph @ 11:30am @ Butte High\nFrosh @ 10am @ Butte High
URL:https://pal.helenaschools.org/event/hhs-boys-basketball-v-butte/
LOCATION:Civic Center\, 401 S Wyoming Ave.\, Butte\, MT\, 59701\, United States
CATEGORIES:Activities,Helena High Activities,Helena High Boys Basketball
END:VEVENT
BEGIN:VEVENT
DTSTART;TZID=America/Denver:20210109T154500
DTEND;TZID=America/Denver:20210109T174500
DTSTAMP:20260425T045913
CREATED:20201215T113440Z
LAST-MODIFIED:20201219T121453Z
UID:22513-1610207100-1610214300@pal.helenaschools.org
SUMMARY:CHS Boys Basketball v. Hellgate
DESCRIPTION:JV @ 2pm\nSoph @ 12:30pm\nFrosh @ 11am
URL:https://pal.helenaschools.org/event/chs-boys-basketball-v-hellgate/
LOCATION:Capital High School\, 100 Valley Dr.\, Helena\, MT\, 59601\, United States
CATEGORIES:Activities,Capital High Boys Basketball,Capital High School Activities
END:VEVENT
BEGIN:VEVENT
DTSTART;TZID=America/Denver:20210109T163000
DTEND;TZID=America/Denver:20210109T183000
DTSTAMP:20260425T045913
CREATED:20201215T113440Z
LAST-MODIFIED:20201219T121453Z
UID:22514-1610209800-1610217000@pal.helenaschools.org
SUMMARY:CHS Girls Basketball v. Hellgate
DESCRIPTION:JV @ 2:45pm\nFroshmore @ 1pm
URL:https://pal.helenaschools.org/event/chs-girls-basketball-v-hellgate/
LOCATION:Hellgate High School\, 925 Gerald Ave.\, Missoula\, MT\, 59801\, United States
CATEGORIES:Activities,Capital High Girls Basketball,Capital High School Activities
END:VEVENT
BEGIN:VEVENT
DTSTART;VALUE=DATE:20210111
DTEND;VALUE=DATE:20210117
DTSTAMP:20260425T045913
CREATED:20201215T113440Z
LAST-MODIFIED:20201219T121453Z
UID:22515-1610323200-1610841599@pal.helenaschools.org
SUMMARY:HHS/CHS Swim at Butte Invitational
DESCRIPTION:
URL:https://pal.helenaschools.org/event/hhs-chs-swim-at-butte-invitational/
LOCATION:Virtual\, Helena\, MT\, 59602\, United States
CATEGORIES:Activities,Capital High School Activities,Capital High Swim,Helena High Activities,Helena High Swim
END:VEVENT
BEGIN:VEVENT
DTSTART;TZID=America/Denver:20210112T173000
DTEND;TZID=America/Denver:20210112T193000
DTSTAMP:20260425T045913
CREATED:20201215T113440Z
LAST-MODIFIED:20201219T121453Z
UID:22516-1610472600-1610479800@pal.helenaschools.org
SUMMARY:Board of Trustees Meeting – 1.12.2020
DESCRIPTION:
URL:https://pal.helenaschools.org/event/board-of-trustees-meeting-1-12-2020/
LOCATION:Capital High School\, 100 Valley Dr.\, Helena\, MT\, 59601\, United States
CATEGORIES:Board of Trustees Meeting,District Schedule,Full Board Meeting
ORGANIZER;CN="Board of Trustees":MAILTO:boardoftrustees@helenaschools.org
END:VEVENT
BEGIN:VEVENT
DTSTART;TZID=America/Denver:20210112T173000
DTEND;TZID=America/Denver:20210112T200000
DTSTAMP:20260425T045913
CREATED:20201015T202610Z
LAST-MODIFIED:20201015T202610Z
UID:22322-1610472600-1610481600@pal.helenaschools.org
SUMMARY:Board of Trustees Meeting
DESCRIPTION:
URL:https://pal.helenaschools.org/event/board-of-trustees-meeting-3/
LOCATION:Capital High School\, 100 Valley Dr.\, Helena\, MT\, 59601\, United States
CATEGORIES:Board of Trustees Meeting,Full Board Meeting
ORGANIZER;CN="Board of Trustees":MAILTO:boardoftrustees@helenaschools.org
END:VEVENT
BEGIN:VEVENT
DTSTART;TZID=America/Denver:20210112T191500
DTEND;TZID=America/Denver:20210112T211500
DTSTAMP:20260425T045913
CREATED:20201215T113440Z
LAST-MODIFIED:20201219T121453Z
UID:22517-1610478900-1610486100@pal.helenaschools.org
SUMMARY:CHS Girls Basketball v. Big Sky
DESCRIPTION:JV @ 5:30pm\nFrosh @ 4pm
URL:https://pal.helenaschools.org/event/chs-girls-basketball-v-big-sky/
LOCATION:Capital High School\, 100 Valley Dr.\, Helena\, MT\, 59601\, United States
CATEGORIES:Activities,Capital High Girls Basketball,Capital High School Activities
END:VEVENT
BEGIN:VEVENT
DTSTART;TZID=America/Denver:20210112T191500
DTEND;TZID=America/Denver:20210112T211500
DTSTAMP:20260425T045913
CREATED:20201215T113440Z
LAST-MODIFIED:20201219T121453Z
UID:22518-1610478900-1610486100@pal.helenaschools.org
SUMMARY:HHS Girls Basketball v. Sentinel
DESCRIPTION:JV @ 5:30pm\nSoph @ 4pm\nFrosh @ 2:30pm
URL:https://pal.helenaschools.org/event/hhs-girls-basketball-v-sentinel/
LOCATION:Helena High School\, 1300 Billings Ave.\, Helena\, 59601
CATEGORIES:Activities,Helena High Activities,Helena High Girls Basketball
END:VEVENT
BEGIN:VEVENT
DTSTART;TZID=America/Denver:20210112T191500
DTEND;TZID=America/Denver:20210112T211500
DTSTAMP:20260425T045913
CREATED:20201215T113440Z
LAST-MODIFIED:20201219T121453Z
UID:22519-1610478900-1610486100@pal.helenaschools.org
SUMMARY:CHS Boys Basketball v. Big Sky
DESCRIPTION:JV @ 5:30pm\nSoph @ 4pm\nFrosh @ 4pm
URL:https://pal.helenaschools.org/event/chs-boys-basketball-v-big-sky/
LOCATION:Big Sky High School\, 3100 South Avenue W.\, Missoula\, MT\, 59801\, United States
CATEGORIES:Activities,Capital High Boys Basketball,Capital High School Activities
END:VEVENT
BEGIN:VEVENT
DTSTART;TZID=America/Denver:20210112T191500
DTEND;TZID=America/Denver:20210112T211500
DTSTAMP:20260425T045913
CREATED:20201215T113440Z
LAST-MODIFIED:20201219T121453Z
UID:22520-1610478900-1610486100@pal.helenaschools.org
SUMMARY:HHS Boys Basketball v. Sentinel
DESCRIPTION:JV @ 5:30pm\nSoph @ 4pm\nFrosh @ 4pm
URL:https://pal.helenaschools.org/event/hhs-boys-basketball-v-sentinel/
LOCATION:Sentinel High School\, 901 South Ave. W.\, Missoula\, MT\, 59801\, United States
CATEGORIES:Activities,Helena High Activities,Helena High Boys Basketball
END:VEVENT
BEGIN:VEVENT
DTSTART;TZID=America/Denver:20210114T190000
DTEND;TZID=America/Denver:20210114T210000
DTSTAMP:20260425T045913
CREATED:20201215T113441Z
LAST-MODIFIED:20201219T121453Z
UID:22521-1610650800-1610658000@pal.helenaschools.org
SUMMARY:HHS Boys Basketball v. Big Sky
DESCRIPTION:JV @ 5:30pm\nSoph @ 4pm\nFrosh @ 2:30pm
URL:https://pal.helenaschools.org/event/hhs-boys-basketball-v-big-sky/
LOCATION:Helena High School\, 1300 Billings Ave.\, Helena\, 59601
CATEGORIES:Activities,Helena High Activities,Helena High Boys Basketball
END:VEVENT
BEGIN:VEVENT
DTSTART;TZID=America/Denver:20210114T191500
DTEND;TZID=America/Denver:20210114T211500
DTSTAMP:20260425T045913
CREATED:20201215T113441Z
LAST-MODIFIED:20201219T121453Z
UID:22522-1610651700-1610658900@pal.helenaschools.org
SUMMARY:HHS Girls Basketball v. Big Sky
DESCRIPTION:JV @ 5:30pm\nFrosh @ 4pm
URL:https://pal.helenaschools.org/event/hhs-girls-basketball-v-big-sky/
LOCATION:Big Sky High School\, 3100 South Avenue W.\, Missoula\, MT\, 59801\, United States
CATEGORIES:Activities,Helena High Activities,Helena High Girls Basketball
END:VEVENT
BEGIN:VEVENT
DTSTART;TZID=America/Denver:20210115T160000
DTEND;TZID=America/Denver:20210115T180000
DTSTAMP:20260425T045913
CREATED:20201215T113441Z
LAST-MODIFIED:20201219T121454Z
UID:22523-1610726400-1610733600@pal.helenaschools.org
SUMMARY:HHS Wrestling v. Sentinel
DESCRIPTION:JV @ 4pm
URL:https://pal.helenaschools.org/event/hhs-wrestling-v-sentinel/
LOCATION:Sentinel High School\, 901 South Ave. W.\, Missoula\, MT\, 59801\, United States
CATEGORIES:Activities,Helena High Activities,Helena High Wrestling
END:VEVENT
BEGIN:VEVENT
DTSTART;TZID=America/Denver:20210115T160000
DTEND;TZID=America/Denver:20210115T180000
DTSTAMP:20260425T045913
CREATED:20201215T113441Z
LAST-MODIFIED:20201219T121454Z
UID:22524-1610726400-1610733600@pal.helenaschools.org
SUMMARY:CHS Wrestling v. Big Sky
DESCRIPTION:JV @ 4pm
URL:https://pal.helenaschools.org/event/chs-wrestling-v-big-sky/
LOCATION:Big Sky High School\, 3100 South Avenue W.\, Missoula\, MT\, 59801\, United States
CATEGORIES:Activities,Capital High School Activities,Capital High Wrestling
END:VEVENT
BEGIN:VEVENT
DTSTART;TZID=America/Denver:20210115T160000
DTEND;TZID=America/Denver:20210115T190000
DTSTAMP:20260425T045913
CREATED:20201215T113441Z
LAST-MODIFIED:20201219T121454Z
UID:22526-1610726400-1610737200@pal.helenaschools.org
SUMMARY:HHS Girls Basketball-Soph and Frosh v. East Helena
DESCRIPTION:Soph @ 5:30pm\nFrosh @ 4pm
URL:https://pal.helenaschools.org/event/hhs-girls-basketball-soph-and-frosh-v-east-helena/
LOCATION:East Helena High School\, 2760 Valley Drive\, East Helena\, MT\, 59635\, United States
CATEGORIES:Activities,Helena High Activities,Helena High Girls Basketball
END:VEVENT
BEGIN:VEVENT
DTSTART;TZID=America/Denver:20210115T190000
DTEND;TZID=America/Denver:20210115T210000
DTSTAMP:20260425T045913
CREATED:20201215T113441Z
LAST-MODIFIED:20201219T121454Z
UID:22527-1610737200-1610744400@pal.helenaschools.org
SUMMARY:HHS Wrestling v. Big Sky
DESCRIPTION:JV @ 7pm
URL:https://pal.helenaschools.org/event/hhs-wrestling-v-big-sky/
LOCATION:Big Sky High School\, 3100 South Avenue W.\, Missoula\, MT\, 59801\, United States
CATEGORIES:Activities,Helena High Activities,Helena High Wrestling
END:VEVENT
BEGIN:VEVENT
DTSTART;TZID=America/Denver:20210115T190000
DTEND;TZID=America/Denver:20210115T210000
DTSTAMP:20260425T045913
CREATED:20201215T113441Z
LAST-MODIFIED:20201219T121454Z
UID:22528-1610737200-1610744400@pal.helenaschools.org
SUMMARY:CHS Wrestling v. Sentinel
DESCRIPTION:JV @ 7pm
URL:https://pal.helenaschools.org/event/chs-wrestling-v-sentinel/
LOCATION:Sentinel High School\, 901 South Ave. W.\, Missoula\, MT\, 59801\, United States
CATEGORIES:Activities,Capital High School Activities,Capital High Wrestling
END:VEVENT
BEGIN:VEVENT
DTSTART;TZID=America/Denver:20210116T153000
DTEND;TZID=America/Denver:20210116T173000
DTSTAMP:20260425T045913
CREATED:20201215T113441Z
LAST-MODIFIED:20201219T121454Z
UID:22529-1610811000-1610818200@pal.helenaschools.org
SUMMARY:CHS Boys Basketball v. Sentinel
DESCRIPTION:JV @ 2pm\nSoph @ 12:30pm\nFrosh @ 11am
URL:https://pal.helenaschools.org/event/chs-boys-basketball-v-sentinel/
LOCATION:Capital High School\, 100 Valley Dr.\, Helena\, MT\, 59601\, United States
CATEGORIES:Activities,Capital High Boys Basketball,Capital High School Activities
END:VEVENT
BEGIN:VEVENT
DTSTART;TZID=America/Denver:20210116T161500
DTEND;TZID=America/Denver:20210116T181500
DTSTAMP:20260425T045913
CREATED:20201215T113442Z
LAST-MODIFIED:20201219T121454Z
UID:22530-1610813700-1610820900@pal.helenaschools.org
SUMMARY:CHS Girls Basketball v. Sentinel
DESCRIPTION:JV @ 2:30pm\nSoph @ 1pm\nFrosh @ 1pm
URL:https://pal.helenaschools.org/event/chs-girls-basketball-v-sentinel/
LOCATION:Sentinel High School\, 901 South Ave. W.\, Missoula\, MT\, 59801\, United States
CATEGORIES:Activities,Capital High Girls Basketball,Capital High School Activities
END:VEVENT
BEGIN:VEVENT
DTSTART;VALUE=DATE:20210118
DTEND;VALUE=DATE:20210119
DTSTAMP:20260425T045913
CREATED:20201015T202610Z
LAST-MODIFIED:20201219T121454Z
UID:22323-1610928000-1611014399@pal.helenaschools.org
SUMMARY:Martin Luther King Day
DESCRIPTION:No School\nDistrict Closed
URL:https://pal.helenaschools.org/event/martin-luther-king-day/
LOCATION:MT
CATEGORIES:District Closed,No School
END:VEVENT
BEGIN:VEVENT
DTSTART;VALUE=DATE:20210118
DTEND;VALUE=DATE:20210124
DTSTAMP:20260425T045913
CREATED:20201215T113442Z
LAST-MODIFIED:20201219T121454Z
UID:22531-1610928000-1611446399@pal.helenaschools.org
SUMMARY:CHS/HHS Swim at Missoula City Meet
DESCRIPTION:
URL:https://pal.helenaschools.org/event/chs-hhs-swim-at-missoula-city-meet/
LOCATION:Virtual\, Helena\, MT\, 59602\, United States
CATEGORIES:Activities,Capital High School Activities,Capital High Swim,Helena High Activities,Helena High Swim
END:VEVENT
BEGIN:VEVENT
DTSTART;VALUE=DATE:20210119
DTEND;VALUE=DATE:20210122
DTSTAMP:20260425T045913
CREATED:20201015T202610Z
LAST-MODIFIED:20201219T121454Z
UID:22324-1611014400-1611273599@pal.helenaschools.org
SUMMARY:High School Semester Testing
DESCRIPTION:
URL:https://pal.helenaschools.org/event/high-school-semester-testing/
LOCATION:MT
CATEGORIES:District Schedule
END:VEVENT
BEGIN:VEVENT
DTSTART;VALUE=DATE:20210121
DTEND;VALUE=DATE:20210122
DTSTAMP:20260425T045913
CREATED:20201015T202611Z
LAST-MODIFIED:20201219T121455Z
UID:22325-1611187200-1611273599@pal.helenaschools.org
SUMMARY:K-8 12:00 p.m. Early Dismissal
DESCRIPTION:
URL:https://pal.helenaschools.org/event/k-8-1200-p-m-early-dismissal/
LOCATION:MT
CATEGORIES:District Schedule
END:VEVENT
BEGIN:VEVENT
DTSTART;TZID=America/Denver:20210121T191500
DTEND;TZID=America/Denver:20210121T211500
DTSTAMP:20260425T045913
CREATED:20201215T113442Z
LAST-MODIFIED:20201219T121455Z
UID:22532-1611256500-1611263700@pal.helenaschools.org
SUMMARY:Crosstown Boys Basketball
DESCRIPTION:JV @ 5:30pm\nSoph @ 4pm\nFrosh @ 2:30pm
URL:https://pal.helenaschools.org/event/crosstown-boys-basketball/
LOCATION:Helena High School\, 1300 Billings Ave.\, Helena\, 59601
CATEGORIES:Activities,Capital High Boys Basketball,Capital High School Activities,Helena High Activities,Helena High Boys Basketball
END:VEVENT
END:VCALENDAR