BEGIN:VCALENDAR
VERSION:2.0
PRODID:-//Project for Alternative Learning - ECPv6.15.20//NONSGML v1.0//EN
CALSCALE:GREGORIAN
METHOD:PUBLISH
X-WR-CALNAME:Project for Alternative Learning
X-ORIGINAL-URL:https://pal.helenaschools.org
X-WR-CALDESC:Events for Project for Alternative Learning
REFRESH-INTERVAL;VALUE=DURATION:PT1H
X-Robots-Tag:noindex
X-PUBLISHED-TTL:PT1H
BEGIN:VTIMEZONE
TZID:America/Denver
BEGIN:DAYLIGHT
TZOFFSETFROM:-0700
TZOFFSETTO:-0600
TZNAME:MDT
DTSTART:20200308T090000
END:DAYLIGHT
BEGIN:STANDARD
TZOFFSETFROM:-0600
TZOFFSETTO:-0700
TZNAME:MST
DTSTART:20201101T080000
END:STANDARD
BEGIN:DAYLIGHT
TZOFFSETFROM:-0700
TZOFFSETTO:-0600
TZNAME:MDT
DTSTART:20210314T090000
END:DAYLIGHT
BEGIN:STANDARD
TZOFFSETFROM:-0600
TZOFFSETTO:-0700
TZNAME:MST
DTSTART:20211107T080000
END:STANDARD
BEGIN:DAYLIGHT
TZOFFSETFROM:-0700
TZOFFSETTO:-0600
TZNAME:MDT
DTSTART:20220313T090000
END:DAYLIGHT
BEGIN:STANDARD
TZOFFSETFROM:-0600
TZOFFSETTO:-0700
TZNAME:MST
DTSTART:20221106T080000
END:STANDARD
END:VTIMEZONE
BEGIN:VEVENT
DTSTART;TZID=America/Denver:20210220T160000
DTEND;TZID=America/Denver:20210220T180000
DTSTAMP:20260422T215027
CREATED:20201215T113449Z
LAST-MODIFIED:20201219T121500Z
UID:22589-1613836800-1613844000@pal.helenaschools.org
SUMMARY:HHS Girls Basketball v. Flathead
DESCRIPTION:JV @ 2:30pm\nSoph @ 1pm\nFrosh @ 1pm
URL:https://pal.helenaschools.org/event/hhs-girls-basketball-v-flathead-2/
LOCATION:Flathead High School\, 644 Fourth Ave. W.\, Kalispell\, MT\, 59901\, United States
CATEGORIES:Activities,Helena High Activities,Helena High Girls Basketball
END:VEVENT
BEGIN:VEVENT
DTSTART;TZID=America/Denver:20210220T160000
DTEND;TZID=America/Denver:20210220T180000
DTSTAMP:20260422T215027
CREATED:20201215T113449Z
LAST-MODIFIED:20201219T121500Z
UID:22590-1613836800-1613844000@pal.helenaschools.org
SUMMARY:CHS Boys Basketball v. Glacier
DESCRIPTION:JV @ 2:30pm\nSoph @ 1pm\nFrosh @ 11:30am
URL:https://pal.helenaschools.org/event/chs-boys-basketball-v-glacier-2/
LOCATION:Capital High School\, 100 Valley Dr.\, Helena\, MT\, 59601\, United States
CATEGORIES:Activities,Capital High Boys Basketball,Capital High School Activities
END:VEVENT
BEGIN:VEVENT
DTSTART;TZID=America/Denver:20210220T160000
DTEND;TZID=America/Denver:20210220T180000
DTSTAMP:20260422T215027
CREATED:20201215T113449Z
LAST-MODIFIED:20201219T121500Z
UID:22591-1613836800-1613844000@pal.helenaschools.org
SUMMARY:HHS Boys Basketball v. Flathead
DESCRIPTION:JV @ 2:30pm\nSoph @ 1pm\nFrosh @ 11:30am
URL:https://pal.helenaschools.org/event/hhs-boys-basketball-v-flathead-2/
LOCATION:Helena High School\, 1300 Billings Ave.\, Helena\, 59601
CATEGORIES:Activities,Helena High Activities,Helena High Boys Basketball
END:VEVENT
BEGIN:VEVENT
DTSTART;TZID=America/Denver:20210219T190000
DTEND;TZID=America/Denver:20210219T210000
DTSTAMP:20260422T215027
CREATED:20201215T113448Z
LAST-MODIFIED:20201219T121459Z
UID:22586-1613761200-1613768400@pal.helenaschools.org
SUMMARY:HHS Wrestling v. Flathead
DESCRIPTION:JV @ 7pm
URL:https://pal.helenaschools.org/event/hhs-wrestling-v-flathead-2/
LOCATION:Flathead High School\, 644 Fourth Ave. W.\, Kalispell\, MT\, 59901\, United States
CATEGORIES:Activities,Helena High Activities,Helena High Wrestling
END:VEVENT
BEGIN:VEVENT
DTSTART;TZID=America/Denver:20210219T190000
DTEND;TZID=America/Denver:20210219T210000
DTSTAMP:20260422T215027
CREATED:20201215T113448Z
LAST-MODIFIED:20201219T121500Z
UID:22587-1613761200-1613768400@pal.helenaschools.org
SUMMARY:CHS Wrestling v. Glacier
DESCRIPTION:JV @ 7pm
URL:https://pal.helenaschools.org/event/chs-wrestling-v-glacier-2/
LOCATION:Glacier High School\, 375 Wolfpack Way\, Kalispell\, MT\, 59901\, United States
CATEGORIES:Activities,Capital High School Activities,Capital High Wrestling
END:VEVENT
BEGIN:VEVENT
DTSTART;TZID=America/Denver:20210219T160000
DTEND;TZID=America/Denver:20210219T180000
DTSTAMP:20260422T215027
CREATED:20201215T113448Z
LAST-MODIFIED:20201219T121459Z
UID:22584-1613750400-1613757600@pal.helenaschools.org
SUMMARY:HHS Wrestling v. Glacier
DESCRIPTION:JV @ 4pm
URL:https://pal.helenaschools.org/event/hhs-wrestling-v-glacier-2/
LOCATION:Glacier High School\, 375 Wolfpack Way\, Kalispell\, MT\, 59901\, United States
CATEGORIES:Activities,Helena High Activities,Helena High Wrestling
END:VEVENT
BEGIN:VEVENT
DTSTART;TZID=America/Denver:20210219T160000
DTEND;TZID=America/Denver:20210219T180000
DTSTAMP:20260422T215027
CREATED:20201215T113448Z
LAST-MODIFIED:20201219T121459Z
UID:22585-1613750400-1613757600@pal.helenaschools.org
SUMMARY:CHS Wrestling v. Flathead
DESCRIPTION:JV @ 4pm
URL:https://pal.helenaschools.org/event/chs-wrestling-v-flathead-2/
LOCATION:Flathead High School\, 644 Fourth Ave. W.\, Kalispell\, MT\, 59901\, United States
CATEGORIES:Activities,Capital High School Activities,Capital High Wrestling
END:VEVENT
BEGIN:VEVENT
DTSTART;TZID=America/Denver:20210218T191500
DTEND;TZID=America/Denver:20210218T211500
DTSTAMP:20260422T215027
CREATED:20201215T113448Z
LAST-MODIFIED:20201219T121459Z
UID:22580-1613675700-1613682900@pal.helenaschools.org
SUMMARY:CHS Girls Basketball v. Flathead
DESCRIPTION:JV @ 5:30pm\nSoph @ 4pm\nFrosh @ 2:30pm
URL:https://pal.helenaschools.org/event/chs-girls-basketball-v-flathead-2/
LOCATION:Capital High School\, 100 Valley Dr.\, Helena\, MT\, 59601\, United States
CATEGORIES:Activities,Capital High Girls Basketball,Capital High School Activities
END:VEVENT
BEGIN:VEVENT
DTSTART;TZID=America/Denver:20210218T191500
DTEND;TZID=America/Denver:20210218T211500
DTSTAMP:20260422T215027
CREATED:20201215T113448Z
LAST-MODIFIED:20201219T121459Z
UID:22581-1613675700-1613682900@pal.helenaschools.org
SUMMARY:HHS Girls Basketball v. Glacier
DESCRIPTION:JV @ 5:30pm\nSoph @ 4pm\nFrosh @ 2:30pm
URL:https://pal.helenaschools.org/event/hhs-girls-basketball-v-glacier-2/
LOCATION:Helena High School\, 1300 Billings Ave.\, Helena\, 59601
CATEGORIES:Activities,Helena High Activities,Helena High Girls Basketball
END:VEVENT
BEGIN:VEVENT
DTSTART;TZID=America/Denver:20210218T191500
DTEND;TZID=America/Denver:20210218T211500
DTSTAMP:20260422T215027
CREATED:20201215T113448Z
LAST-MODIFIED:20201219T121459Z
UID:22582-1613675700-1613682900@pal.helenaschools.org
SUMMARY:CHS Boys Basketball v. Flathead
DESCRIPTION:JV @ 5:30pm\nSoph @ 4pm\nFrosh @ 4pm
URL:https://pal.helenaschools.org/event/chs-boys-basketball-v-flathead-2/
LOCATION:Flathead High School\, 644 Fourth Ave. W.\, Kalispell\, MT\, 59901\, United States
CATEGORIES:Activities,Capital High Boys Basketball,Capital High School Activities
END:VEVENT
BEGIN:VEVENT
DTSTART;TZID=America/Denver:20210218T191500
DTEND;TZID=America/Denver:20210218T211500
DTSTAMP:20260422T215027
CREATED:20201215T113448Z
LAST-MODIFIED:20201219T121459Z
UID:22583-1613675700-1613682900@pal.helenaschools.org
SUMMARY:HHS Boys Basketball v. Glacier
DESCRIPTION:JV @ 5:30pm\nSoph @ 4pm\nFrosh @ 4pm
URL:https://pal.helenaschools.org/event/hhs-boys-basketball-v-glacier-2/
LOCATION:Glacier High School\, 375 Wolfpack Way\, Kalispell\, MT\, 59901\, United States
CATEGORIES:Activities,Helena High Activities,Helena High Boys Basketball
END:VEVENT
BEGIN:VEVENT
DTSTART;VALUE=DATE:20210215
DTEND;VALUE=DATE:20210221
DTSTAMP:20260422T215027
CREATED:20201215T113448Z
LAST-MODIFIED:20201219T121459Z
UID:22579-1613347200-1613865599@pal.helenaschools.org
SUMMARY:CHS/HHS Swim at Great Falls Sprints
DESCRIPTION:
URL:https://pal.helenaschools.org/event/chs-hhs-swim-at-great-falls-sprints/
LOCATION:Virtual\, Helena\, MT\, 59602\, United States
CATEGORIES:Activities,Capital High School Activities,Capital High Swim,Helena High Activities,Helena High Swim
END:VEVENT
BEGIN:VEVENT
DTSTART;VALUE=DATE:20210215
DTEND;VALUE=DATE:20210216
DTSTAMP:20260422T215027
CREATED:20201015T202611Z
LAST-MODIFIED:20201219T121459Z
UID:22331-1613347200-1613433599@pal.helenaschools.org
SUMMARY:President’s Day
DESCRIPTION:No School\nDistrict Closed
URL:https://pal.helenaschools.org/event/presidents-day/
LOCATION:MT
CATEGORIES:District Closed,No School
END:VEVENT
BEGIN:VEVENT
DTSTART;TZID=America/Denver:20210213T161500
DTEND;TZID=America/Denver:20210213T181500
DTSTAMP:20260422T215027
CREATED:20201215T113447Z
LAST-MODIFIED:20201219T121459Z
UID:22578-1613232900-1613240100@pal.helenaschools.org
SUMMARY:CHS Boys Basketball v. Sentinel
DESCRIPTION:JV @ 2:30pm\nSoph @ 1pm\nFrosh @ 1pm
URL:https://pal.helenaschools.org/event/chs-boys-basketball-v-sentinel-2/
LOCATION:Sentinel High School\, 901 South Ave. W.\, Missoula\, MT\, 59801\, United States
CATEGORIES:Activities,Capital High Boys Basketball,Capital High School Activities
END:VEVENT
BEGIN:VEVENT
DTSTART;TZID=America/Denver:20210213T160000
DTEND;TZID=America/Denver:20210213T180000
DTSTAMP:20260422T215027
CREATED:20201215T113447Z
LAST-MODIFIED:20201219T121459Z
UID:22577-1613232000-1613239200@pal.helenaschools.org
SUMMARY:HHS Girls Basketball v. Big Sky
DESCRIPTION:JV @ 2:30pm\nFrosh @ 1pm
URL:https://pal.helenaschools.org/event/hhs-girls-basketball-v-big-sky-2/
LOCATION:Helena High School\, 1300 Billings Ave.\, Helena\, 59601
CATEGORIES:Activities,Helena High Activities,Helena High Girls Basketball
END:VEVENT
BEGIN:VEVENT
DTSTART;TZID=America/Denver:20210213T153000
DTEND;TZID=America/Denver:20210213T173000
DTSTAMP:20260422T215027
CREATED:20201215T113447Z
LAST-MODIFIED:20201219T121459Z
UID:22576-1613230200-1613237400@pal.helenaschools.org
SUMMARY:CHS Girls Basketball v. Sentinel
DESCRIPTION:JV @ 2pm\nSoph @ 12:30pm\nFrosh @ 11am
URL:https://pal.helenaschools.org/event/chs-girls-basketball-v-sentinel-2/
LOCATION:Capital High School\, 100 Valley Dr.\, Helena\, MT\, 59601\, United States
CATEGORIES:Activities,Capital High Girls Basketball,Capital High School Activities
END:VEVENT
BEGIN:VEVENT
DTSTART;TZID=America/Denver:20210213T140000
DTEND;TZID=America/Denver:20210213T160000
DTSTAMP:20260422T215027
CREATED:20201215T113447Z
LAST-MODIFIED:20201219T121458Z
UID:22575-1613224800-1613232000@pal.helenaschools.org
SUMMARY:HHS Boys Basketball v. Big Sky
DESCRIPTION:JV @ 12:30pm\nSoph @ 11am\nFrosh @ 11am
URL:https://pal.helenaschools.org/event/hhs-boys-basketball-v-big-sky-2/
LOCATION:Big Sky High School\, 3100 South Avenue W.\, Missoula\, MT\, 59801\, United States
CATEGORIES:Activities,Helena High Activities,Helena High Boys Basketball
END:VEVENT
BEGIN:VEVENT
DTSTART;TZID=America/Denver:20210212T190000
DTEND;TZID=America/Denver:20210212T210000
DTSTAMP:20260422T215027
CREATED:20201215T113447Z
LAST-MODIFIED:20201219T121458Z
UID:22573-1613156400-1613163600@pal.helenaschools.org
SUMMARY:HHS Wrestling v. Big Sky
DESCRIPTION:JV @ 7pm
URL:https://pal.helenaschools.org/event/hhs-wrestling-v-big-sky-2/
LOCATION:Helena High School\, 1300 Billings Ave.\, Helena\, 59601
CATEGORIES:Activities,Helena High Activities,Helena High Wrestling
END:VEVENT
BEGIN:VEVENT
DTSTART;TZID=America/Denver:20210212T190000
DTEND;TZID=America/Denver:20210212T210000
DTSTAMP:20260422T215027
CREATED:20201215T113447Z
LAST-MODIFIED:20201219T121458Z
UID:22574-1613156400-1613163600@pal.helenaschools.org
SUMMARY:CHS Wrestling v. Sentinel
DESCRIPTION:JV @ 7pm
URL:https://pal.helenaschools.org/event/chs-wrestling-v-sentinel-2/
LOCATION:Capital High School\, 100 Valley Dr.\, Helena\, MT\, 59601\, United States
CATEGORIES:Activities,Capital High School Activities,Capital High Wrestling
END:VEVENT
BEGIN:VEVENT
DTSTART;TZID=America/Denver:20210212T160000
DTEND;TZID=America/Denver:20210212T180000
DTSTAMP:20260422T215027
CREATED:20201215T113447Z
LAST-MODIFIED:20201219T121458Z
UID:22571-1613145600-1613152800@pal.helenaschools.org
SUMMARY:HHS Wrestling v. Sentinel
DESCRIPTION:JV @ 4pm
URL:https://pal.helenaschools.org/event/hhs-wrestling-v-sentinel-2/
LOCATION:Helena High School\, 1300 Billings Ave.\, Helena\, 59601
CATEGORIES:Activities,Helena High Activities,Helena High Wrestling
END:VEVENT
BEGIN:VEVENT
DTSTART;TZID=America/Denver:20210212T160000
DTEND;TZID=America/Denver:20210212T180000
DTSTAMP:20260422T215027
CREATED:20201215T113447Z
LAST-MODIFIED:20201219T121458Z
UID:22572-1613145600-1613152800@pal.helenaschools.org
SUMMARY:CHS Wrestling v. Big Sky
DESCRIPTION:JV @ 4pm
URL:https://pal.helenaschools.org/event/chs-wrestling-v-big-sky-2/
LOCATION:Capital High School\, 100 Valley Dr.\, Helena\, MT\, 59601\, United States
CATEGORIES:Activities,Capital High School Activities,Capital High Wrestling
END:VEVENT
BEGIN:VEVENT
DTSTART;TZID=America/Denver:20210211T191500
DTEND;TZID=America/Denver:20210211T211500
DTSTAMP:20260422T215027
CREATED:20201215T113446Z
LAST-MODIFIED:20201219T121458Z
UID:22568-1613070900-1613078100@pal.helenaschools.org
SUMMARY:CHS Girls Basketball v. Big Sky
DESCRIPTION:JV @ 5:30pm\nFrosh @ 4pm
URL:https://pal.helenaschools.org/event/chs-girls-basketball-v-big-sky-2/
LOCATION:Big Sky High School\, 3100 South Avenue W.\, Missoula\, MT\, 59801\, United States
CATEGORIES:Activities,Capital High Girls Basketball,Capital High School Activities
END:VEVENT
BEGIN:VEVENT
DTSTART;TZID=America/Denver:20210211T191500
DTEND;TZID=America/Denver:20210211T211500
DTSTAMP:20260422T215027
CREATED:20201215T113446Z
LAST-MODIFIED:20201219T121458Z
UID:22569-1613070900-1613078100@pal.helenaschools.org
SUMMARY:HHS Girls Basketball v. Sentinel
DESCRIPTION:JV @ 5:30pm\nSoph @ 4pm\nFrosh @ 4pm
URL:https://pal.helenaschools.org/event/hhs-girls-basketball-v-sentinel-2/
LOCATION:Sentinel High School\, 901 South Ave. W.\, Missoula\, MT\, 59801\, United States
CATEGORIES:Activities,Helena High Activities,Helena High Girls Basketball
END:VEVENT
BEGIN:VEVENT
DTSTART;TZID=America/Denver:20210211T191500
DTEND;TZID=America/Denver:20210211T211500
DTSTAMP:20260422T215027
CREATED:20201215T113446Z
LAST-MODIFIED:20201219T121458Z
UID:22570-1613070900-1613078100@pal.helenaschools.org
SUMMARY:HHS Boys Basketball v. Sentinel
DESCRIPTION:JV @ 5:30pm\nSoph @ 4pm\nFrosh @ 2:30pm
URL:https://pal.helenaschools.org/event/hhs-boys-basketball-v-sentinel-2/
LOCATION:Helena High School\, 1300 Billings Ave.\, Helena\, 59601
CATEGORIES:Activities,Helena High Activities,Helena High Boys Basketball
END:VEVENT
BEGIN:VEVENT
DTSTART;TZID=America/Denver:20210211T190000
DTEND;TZID=America/Denver:20210211T210000
DTSTAMP:20260422T215027
CREATED:20201215T113446Z
LAST-MODIFIED:20201219T121458Z
UID:22567-1613070000-1613077200@pal.helenaschools.org
SUMMARY:CHS Boys Basketball v. Big Sky
DESCRIPTION:JV @ 5:30pm\nSoph @ 4pm\nFrosh @ 2:30pm
URL:https://pal.helenaschools.org/event/chs-boys-basketball-v-big-sky-2/
LOCATION:Capital High School\, 100 Valley Dr.\, Helena\, MT\, 59601\, United States
CATEGORIES:Activities,Capital High Boys Basketball,Capital High School Activities
END:VEVENT
BEGIN:VEVENT
DTSTART;TZID=America/Denver:20210211T170000
DTEND;TZID=America/Denver:20210211T190000
DTSTAMP:20260422T215027
CREATED:20201215T113446Z
LAST-MODIFIED:20201219T121458Z
UID:22566-1613062800-1613070000@pal.helenaschools.org
SUMMARY:CHS Girls Basketball-Soph v. East Helena
DESCRIPTION:
URL:https://pal.helenaschools.org/event/chs-girls-basketball-soph-v-east-helena/
LOCATION:East Helena High School\, 2760 Valley Drive\, East Helena\, MT\, 59635\, United States
CATEGORIES:Activities,Capital High Girls Basketball,Capital High School Activities
END:VEVENT
BEGIN:VEVENT
DTSTART;TZID=America/Denver:20210209T173000
DTEND;TZID=America/Denver:20210209T200000
DTSTAMP:20260422T215027
CREATED:20201015T202611Z
LAST-MODIFIED:20201015T202611Z
UID:22330-1612891800-1612900800@pal.helenaschools.org
SUMMARY:Board of Trustees Meeting
DESCRIPTION:
URL:https://pal.helenaschools.org/event/board-of-trustees-meeting-4/
LOCATION:Capital High School\, 100 Valley Dr.\, Helena\, MT\, 59601\, United States
CATEGORIES:Board of Trustees Meeting,Full Board Meeting
ORGANIZER;CN="Board of Trustees":MAILTO:boardoftrustees@helenaschools.org
END:VEVENT
BEGIN:VEVENT
DTSTART;TZID=America/Denver:20210208T160000
DTEND;TZID=America/Denver:20210208T190000
DTSTAMP:20260422T215027
CREATED:20201215T113446Z
LAST-MODIFIED:20201219T121458Z
UID:22565-1612800000-1612810800@pal.helenaschools.org
SUMMARY:Crosstown Girls Basketball-Soph and Frosh
DESCRIPTION:Soph @ 5:30pm\nFrosh @ 4pm
URL:https://pal.helenaschools.org/event/crosstown-girls-basketball-soph-and-frosh/
LOCATION:Helena High School\, 1300 Billings Ave.\, Helena\, 59601
CATEGORIES:Activities,Capital High Girls Basketball,Capital High School Activities,Helena High Activities,Helena High Girls Basketball
END:VEVENT
BEGIN:VEVENT
DTSTART;TZID=America/Denver:20210208T080000
DTEND;TZID=America/Denver:20210208T170000
DTSTAMP:20260422T215027
CREATED:20201215T113446Z
LAST-MODIFIED:20201219T121458Z
UID:22564-1612771200-1612803600@pal.helenaschools.org
SUMMARY:HHS Wrestling v. Hellgate
DESCRIPTION:JV @ 4pm
URL:https://pal.helenaschools.org/event/hhs-wrestling-v-hellgate-2/
LOCATION:Hellgate High School\, 925 Gerald Ave.\, Missoula\, MT\, 59801\, United States
CATEGORIES:Activities,Helena High Activities,Helena High Wrestling
END:VEVENT
BEGIN:VEVENT
DTSTART;VALUE=DATE:20210208
DTEND;VALUE=DATE:20210214
DTSTAMP:20260422T215027
CREATED:20201215T113446Z
LAST-MODIFIED:20201219T121457Z
UID:22563-1612742400-1613260799@pal.helenaschools.org
SUMMARY:HHS/CHS Swim at Missoula Invitational
DESCRIPTION:
URL:https://pal.helenaschools.org/event/hhs-chs-swim-at-missoula-invitational/
LOCATION:Virtual\, Helena\, MT\, 59602\, United States
CATEGORIES:Activities,Capital High School Activities,Capital High Swim,Helena High Activities,Helena High Swim
END:VEVENT
END:VCALENDAR