BEGIN:VCALENDAR
VERSION:2.0
PRODID:-//Project for Alternative Learning - ECPv6.15.20//NONSGML v1.0//EN
CALSCALE:GREGORIAN
METHOD:PUBLISH
X-ORIGINAL-URL:https://pal.helenaschools.org
X-WR-CALDESC:Events for Project for Alternative Learning
REFRESH-INTERVAL;VALUE=DURATION:PT1H
X-Robots-Tag:noindex
X-PUBLISHED-TTL:PT1H
BEGIN:VTIMEZONE
TZID:America/Denver
BEGIN:DAYLIGHT
TZOFFSETFROM:-0700
TZOFFSETTO:-0600
TZNAME:MDT
DTSTART:20190310T090000
END:DAYLIGHT
BEGIN:STANDARD
TZOFFSETFROM:-0600
TZOFFSETTO:-0700
TZNAME:MST
DTSTART:20191103T080000
END:STANDARD
BEGIN:DAYLIGHT
TZOFFSETFROM:-0700
TZOFFSETTO:-0600
TZNAME:MDT
DTSTART:20200308T090000
END:DAYLIGHT
BEGIN:STANDARD
TZOFFSETFROM:-0600
TZOFFSETTO:-0700
TZNAME:MST
DTSTART:20201101T080000
END:STANDARD
BEGIN:DAYLIGHT
TZOFFSETFROM:-0700
TZOFFSETTO:-0600
TZNAME:MDT
DTSTART:20210314T090000
END:DAYLIGHT
BEGIN:STANDARD
TZOFFSETFROM:-0600
TZOFFSETTO:-0700
TZNAME:MST
DTSTART:20211107T080000
END:STANDARD
END:VTIMEZONE
BEGIN:VEVENT
DTSTART;VALUE=DATE:20201102
DTEND;VALUE=DATE:20201103
DTSTAMP:20260425T181452
CREATED:20201015T202607Z
LAST-MODIFIED:20201015T202607Z
UID:22305-1604275200-1604361599@pal.helenaschools.org
SUMMARY:2nd Quarter Begins
DESCRIPTION:
URL:https://pal.helenaschools.org/event/2nd-quarter-begins/
LOCATION:MT
CATEGORIES:District Schedule
END:VEVENT
BEGIN:VEVENT
DTSTART;VALUE=DATE:20201105
DTEND;VALUE=DATE:20201108
DTSTAMP:20260425T181452
CREATED:20201015T202608Z
LAST-MODIFIED:20201015T202608Z
UID:22307-1604534400-1604793599@pal.helenaschools.org
SUMMARY:Divisional Volleyball Tournament
DESCRIPTION:
URL:https://pal.helenaschools.org/event/divisional-volleyball-tournament/
LOCATION:Helena – TBD\, Helena\, MT\, 59601\, United States
CATEGORIES:Activities,Capital High School Activities,Capital High Volleyball,Helena High Activities,Helena High Volleyball
END:VEVENT
BEGIN:VEVENT
DTSTART;VALUE=DATE:20201106
DTEND;VALUE=DATE:20201107
DTSTAMP:20260425T181452
CREATED:20201015T202608Z
LAST-MODIFIED:20201015T202608Z
UID:22308-1604620800-1604707199@pal.helenaschools.org
SUMMARY:Football Second Round of Playoffs
DESCRIPTION:
URL:https://pal.helenaschools.org/event/football-second-round-of-playoffs/
LOCATION:To be Determined\, Helena\, MT\, 59601\, United States
CATEGORIES:Activities,Capital High School Activities,Helena High Activities,Helena High Football
END:VEVENT
END:VCALENDAR