BEGIN:VCALENDAR
VERSION:2.0
PRODID:-//Project for Alternative Learning - ECPv6.15.20//NONSGML v1.0//EN
CALSCALE:GREGORIAN
METHOD:PUBLISH
X-ORIGINAL-URL:https://pal.helenaschools.org
X-WR-CALDESC:Events for Project for Alternative Learning
REFRESH-INTERVAL;VALUE=DURATION:PT1H
X-Robots-Tag:noindex
X-PUBLISHED-TTL:PT1H
BEGIN:VTIMEZONE
TZID:America/Denver
BEGIN:DAYLIGHT
TZOFFSETFROM:-0700
TZOFFSETTO:-0600
TZNAME:MDT
DTSTART:20200308T090000
END:DAYLIGHT
BEGIN:STANDARD
TZOFFSETFROM:-0600
TZOFFSETTO:-0700
TZNAME:MST
DTSTART:20201101T080000
END:STANDARD
BEGIN:DAYLIGHT
TZOFFSETFROM:-0700
TZOFFSETTO:-0600
TZNAME:MDT
DTSTART:20210314T090000
END:DAYLIGHT
BEGIN:STANDARD
TZOFFSETFROM:-0600
TZOFFSETTO:-0700
TZNAME:MST
DTSTART:20211107T080000
END:STANDARD
BEGIN:DAYLIGHT
TZOFFSETFROM:-0700
TZOFFSETTO:-0600
TZNAME:MDT
DTSTART:20220313T090000
END:DAYLIGHT
BEGIN:STANDARD
TZOFFSETFROM:-0600
TZOFFSETTO:-0700
TZNAME:MST
DTSTART:20221106T080000
END:STANDARD
END:VTIMEZONE
BEGIN:VEVENT
DTSTART;TZID=America/Denver:20210410T120000
DTEND;TZID=America/Denver:20210410T170000
DTSTAMP:20260422T075456
CREATED:20201215T113452Z
LAST-MODIFIED:20201219T121503Z
UID:22619-1618056000-1618074000@pal.helenaschools.org
SUMMARY:CHS Track & Field v. Senior
DESCRIPTION:
URL:https://pal.helenaschools.org/event/chs-track-field-v-senior/
LOCATION:Senior High School\, 425 Grand Ave.\, Billings\, MT\, 59101\, United States
CATEGORIES:Activities,Capital High School Activities,Capital High Track & Field
END:VEVENT
END:VCALENDAR